BEGIN:VCALENDAR
VERSION:2.0
PRODID:-//Centrum Konsultacyjne Polsko-Szwajcarskiego Programu Rozwoju Miast - ECPv6.15.20//NONSGML v1.0//EN
CALSCALE:GREGORIAN
METHOD:PUBLISH
X-ORIGINAL-URL:https://wsparciemiast.pl
X-WR-CALDESC:Wydarzenia dla Centrum Konsultacyjne Polsko-Szwajcarskiego Programu Rozwoju Miast
REFRESH-INTERVAL;VALUE=DURATION:PT1H
X-Robots-Tag:noindex
X-PUBLISHED-TTL:PT1H
BEGIN:VTIMEZONE
TZID:Europe/Warsaw
BEGIN:DAYLIGHT
TZOFFSETFROM:+0100
TZOFFSETTO:+0200
TZNAME:CEST
DTSTART:20240331T010000
END:DAYLIGHT
BEGIN:STANDARD
TZOFFSETFROM:+0200
TZOFFSETTO:+0100
TZNAME:CET
DTSTART:20241027T010000
END:STANDARD
BEGIN:DAYLIGHT
TZOFFSETFROM:+0100
TZOFFSETTO:+0200
TZNAME:CEST
DTSTART:20250330T010000
END:DAYLIGHT
BEGIN:STANDARD
TZOFFSETFROM:+0200
TZOFFSETTO:+0100
TZNAME:CET
DTSTART:20251026T010000
END:STANDARD
BEGIN:DAYLIGHT
TZOFFSETFROM:+0100
TZOFFSETTO:+0200
TZNAME:CEST
DTSTART:20260329T010000
END:DAYLIGHT
BEGIN:STANDARD
TZOFFSETFROM:+0200
TZOFFSETTO:+0100
TZNAME:CET
DTSTART:20261025T010000
END:STANDARD
END:VTIMEZONE
BEGIN:VEVENT
DTSTART;TZID=Europe/Warsaw:20250710T100000
DTEND;TZID=Europe/Warsaw:20250710T120000
DTSTAMP:20260421T161006
CREATED:20250218T063942Z
LAST-MODIFIED:20250730T082455Z
UID:9851-1752141600-1752148800@wsparciemiast.pl
SUMMARY:Webinar 10.07: Jak zbudować odporność psychiczną zespołu na stres i wypalenie zawodowe?
DESCRIPTION:Zakres tematyczny:  \n\n\n\n\nWprowadzenie do koncepcji odporności psychicznej i jej znaczenia w pracy urzędnika. \n\n\n\nPraktyczne techniki radzenia sobie ze stresem i presją czasu w środowisku urzędowym. \n\n\n\nMetody wspierania współpracy i komunikacji w zespołach obciążonych zadaniami. \n\n\n\nSposoby przeciwdziałania wypaleniu zawodowemu w sektorze publicznym. \n\n\n\nĆwiczenia na budowanie pozytywnego nastawienia oraz poprawę koncentracji\, szczególnie w czasie intensywnego obciążenia pracą. \n\n\n\n\nProwadzący: Łukasz Dąbrówka\, Krzysztof Początek\, Justyna Pietrzykowska \n\n\n\nWięcej: https://wsparciemiast.pl/webinar-10-07-jak-zbudowac-odpornosc-psychiczna-zespolu/
URL:https://wsparciemiast.pl/wydarzenie/webinar-mkir-10-07-jak-zbudowac-odpornosc-psychiczna-zespolu-na-stres-i-wypalenie-zawodowe/
ATTACH;FMTTYPE=image/png:https://wsparciemiast.pl/wp-content/uploads/2025/01/CH_WWW_linie_tematyczne_m_kompetencji_i_r.png
END:VEVENT
END:VCALENDAR