BEGIN:VCALENDAR
VERSION:2.0
PRODID:-//Centrum Konsultacyjne Polsko-Szwajcarskiego Programu Rozwoju Miast - ECPv6.15.20//NONSGML v1.0//EN
CALSCALE:GREGORIAN
METHOD:PUBLISH
X-WR-CALNAME:Centrum Konsultacyjne Polsko-Szwajcarskiego Programu Rozwoju Miast
X-ORIGINAL-URL:https://wsparciemiast.pl
X-WR-CALDESC:Wydarzenia dla Centrum Konsultacyjne Polsko-Szwajcarskiego Programu Rozwoju Miast
REFRESH-INTERVAL;VALUE=DURATION:PT1H
X-Robots-Tag:noindex
X-PUBLISHED-TTL:PT1H
BEGIN:VTIMEZONE
TZID:Europe/Warsaw
BEGIN:DAYLIGHT
TZOFFSETFROM:+0100
TZOFFSETTO:+0200
TZNAME:CEST
DTSTART:20240331T010000
END:DAYLIGHT
BEGIN:STANDARD
TZOFFSETFROM:+0200
TZOFFSETTO:+0100
TZNAME:CET
DTSTART:20241027T010000
END:STANDARD
BEGIN:DAYLIGHT
TZOFFSETFROM:+0100
TZOFFSETTO:+0200
TZNAME:CEST
DTSTART:20250330T010000
END:DAYLIGHT
BEGIN:STANDARD
TZOFFSETFROM:+0200
TZOFFSETTO:+0100
TZNAME:CET
DTSTART:20251026T010000
END:STANDARD
BEGIN:DAYLIGHT
TZOFFSETFROM:+0100
TZOFFSETTO:+0200
TZNAME:CEST
DTSTART:20260329T010000
END:DAYLIGHT
BEGIN:STANDARD
TZOFFSETFROM:+0200
TZOFFSETTO:+0100
TZNAME:CET
DTSTART:20261025T010000
END:STANDARD
END:VTIMEZONE
BEGIN:VEVENT
DTSTART;TZID=Europe/Warsaw:20250603T100000
DTEND;TZID=Europe/Warsaw:20250603T120000
DTSTAMP:20260421T174511
CREATED:20250217T102103Z
LAST-MODIFIED:20250605T111458Z
UID:9778-1748944800-1748952000@wsparciemiast.pl
SUMMARY:Webinar 03.06: Partnerstwa w zarządzaniu migracją
DESCRIPTION:Zakres tematyczny:  \n\n\n\n\nRealizacja działań w ramach Polsko Szwajcarskiego Programu Współpracy i opracowywania Kompletnej Propozycji Projektu – osiąganie efektów zarządzania migracją w relacjach partnerskich jednostek i organizacji miasta dla realizacji działań projektowych. \n\n\n\nOsiąganie efektów działań i zarządzania migracją w relacjach z sektorem obywatelskim dla zwiększenia odporności na wyzwania i kryzysy społeczne – budowaniu kompetencji miasta w przygotowaniu albo realizowaniu projektów. \n\n\n\nTworzenie efektywnego\, dostosowanego do lokalnych potrzeb\, systemu wsparcia integracji społecznej i ekonomicznej migrantów – określanie oraz realizacja działań i zadań projektowych. \n\n\n\nCase study: kryzys uchodźczy i migracyjny po agresji zbrojnej Rosji na Ukrainę – wsparcie organizacji UNHCR – Urzędu Wysokiego Komisarza Narodów Zjednoczonych ds. Uchodźców. \n\n\n\n\nProwadzący: Krzysztof Markiel\, Wojciech Zarzycki\, Krzysztof Początek \n\n\n\nWięcej: https://wsparciemiast.pl/webinar-03-06-partnerstwa-w-zarzadzaniu-migracja/
URL:https://wsparciemiast.pl/wydarzenie/webinar-md-03-06-partnerstwa-w-zarzadzaniu-migracja/
ATTACH;FMTTYPE=image/png:https://wsparciemiast.pl/wp-content/uploads/2025/01/CH_WWW_linie_tematyczne_m_dostepne.png
END:VEVENT
BEGIN:VEVENT
DTSTART;TZID=Europe/Warsaw:20250605T100000
DTEND;TZID=Europe/Warsaw:20250605T120000
DTSTAMP:20260421T174511
CREATED:20250217T113019Z
LAST-MODIFIED:20250613T102425Z
UID:9815-1749117600-1749124800@wsparciemiast.pl
SUMMARY:Webinar 05.06: Przeciwdziałanie wykluczeniu transportowemu
DESCRIPTION:Zakres tematyczny:  \n\n\n\n\nDiagnozowanie wykluczenia transportowego oraz zasady budowania efektywnych systemów transportowych. \n\n\n\nOmówienie różnych modeli DRT (Demand Responsive Transport) i ich optymalnej wielkości pojazdów. \n\n\n\nRola przewoźników publicznych i prywatnych w przeciwdziałaniu wykluczeniu transportowemu. \n\n\n\nSystemy informacji o dostępności usług oraz systemy rezerwacji kursów\, wraz z prezentacją różnych wariantów i ich porównaniem. \n\n\n\nSystemy zliczania zapełnienia pojazdów – omówienie \n\n\n\n\nProwadzący: Wojciech Kłosowski\, Łukasz Dąbrówka\, Grzegorz Kamiński \n\n\n\nWięcej: https://wsparciemiast.pl/webinar-05-06-przeciwdzialanie-wykluczeniu-transportowemu/
URL:https://wsparciemiast.pl/wydarzenie/webinar-mz-28-05-przeciwdzialanie-wykluczeniu-transportowemu/
ATTACH;FMTTYPE=image/png:https://wsparciemiast.pl/wp-content/uploads/2025/01/CH_WWW_linie_tematyczne_m_zielone.png
END:VEVENT
BEGIN:VEVENT
DTSTART;TZID=Europe/Warsaw:20250612T100000
DTEND;TZID=Europe/Warsaw:20250612T120000
DTSTAMP:20260421T174511
CREATED:20250218T063459Z
LAST-MODIFIED:20250623T083805Z
UID:9845-1749722400-1749729600@wsparciemiast.pl
SUMMARY:Webinar 12.06: Pułapki w zarządzaniu projektem: złe nawyki\, stres\, wypalenie zawodowe
DESCRIPTION:Zakres tematyczny:  \n\n\n\n\nZłe nawyki jako źródło problemów – rozpoznanie najczęstszych błędów kierowników i członków zespołów projektowych oraz ich wpływu na wyniki projektów i wypalenie zawodowe. \n\n\n\nZrozumienie związku między złymi nawykami a błędami w zarządzaniu i realizacji projektów. \n\n\n\nZłe nawyki\, błędy w zarzadzaniu jako przyczyna stresu. \n\n\n\nDługotrwały stres drogą do wypalenia zawodowego. \n\n\n\nPoznanie metod zmiany nawyków i wprowadzenia skuteczniejszych wzorców zachowań przeciwdziałających stresowi. \n\n\n\n\nProwadzący: Krzysztof Początek\, Justyna Pietrzykowska\, Łukasz Dąbrówka \n\n\n\nWięcej: https://wsparciemiast.pl/webinar-12-06-pulapki-w-zarzadzaniu-projektem/
URL:https://wsparciemiast.pl/wydarzenie/webinar-mkir-12-06-pulapki-w-zarzadzaniu-projektem-zle-nawyki-stres-wypalenie-zawodowe/
ATTACH;FMTTYPE=image/png:https://wsparciemiast.pl/wp-content/uploads/2025/01/CH_WWW_linie_tematyczne_m_kompetencji_i_r.png
END:VEVENT
BEGIN:VEVENT
DTSTART;TZID=Europe/Warsaw:20250625T100000
DTEND;TZID=Europe/Warsaw:20250625T120000
DTSTAMP:20260421T174511
CREATED:20250217T113621Z
LAST-MODIFIED:20250627T150542Z
UID:9818-1750845600-1750852800@wsparciemiast.pl
SUMMARY:Webinar 25.06: Bank dobrych praktyk miast szwajcarskich z zakresu bioróżnorodności
DESCRIPTION:Webinar realizowany we współpracy z Partnerem Konsorcjum ENCO-URBANPLAN.  \n\n\n\nZakres tematyczny:  \n\n\n\n\nOmówienie wyzwań i możliwości związanych z bioróżnorodnością w miastach. \n\n\n\nPrzedstawienie dobrych praktyk wdrażanych przez miasta szwajcarskie. \n\n\n\nPrezentacje zdjęć\, filmów oraz podstawowych informacji o ciekawych inicjatywach z zakresu bioróżnorodności. \n\n\n\nPoszerzenie horyzontów uczestników i lepsze przygotowanie do współpracy bilateralnej w ramach P-SPRM  \n\n\n\n\nProwadzący: Piotr Górka\, Lucyna Maury\, Jakub Jackowski\, Agnieszka Dawydzik \n\n\n\nWięcej: https://wsparciemiast.pl/webinar-25-06-dobre-praktyki-z-zakresu-bioroznorodnosci/
URL:https://wsparciemiast.pl/wydarzenie/webinar-mz-25-06-bank-dobrych-praktyk-miast-szwajcarskich-z-zakresu-bioroznorodnosci/
ATTACH;FMTTYPE=image/png:https://wsparciemiast.pl/wp-content/uploads/2025/01/CH_WWW_linie_tematyczne_m_zielone.png
END:VEVENT
BEGIN:VEVENT
DTSTART;TZID=Europe/Warsaw:20250626T100000
DTEND;TZID=Europe/Warsaw:20250626T120000
DTSTAMP:20260421T174511
CREATED:20250218T063717Z
LAST-MODIFIED:20250630T100001Z
UID:9848-1750932000-1750939200@wsparciemiast.pl
SUMMARY:Webinar 26.06: Zarządzanie projektem a procesy operacyjne – droga do celu czy gaszenie pożarów?
DESCRIPTION:Zakres tematyczny:  \n\n\n\n\nIdentyfikacja\, planowanie\, projektowanie\, wdrażanie i monitorowanie procesów oraz wprowadzanie innowacji w procesy projektowe i inwestycyjne. \n\n\n\nBudowanie współpracy między kierownikiem urzędu/pionu a właścicielem procesu/menedżerem projektu.  \n\n\n\nUsprawnienie współpracy między zespołem projektowym a zespołem inwestycyjnym. \n\n\n\nNarzędzia wspierające zarządzanie procesowe i projektowe (modelowanie/mapowanie i modyfikowania procesu; lista zasobów\, prowadzenia projektu po ścieżce krytycznej (myślenie Ganttem); analiza sieci projektowej  i węzłów krytycznych). \n\n\n\n\nProwadzący: Grzegorz Dziarski\, Anna Żabińska-Pioterek \n\n\n\nWięcej: https://wsparciemiast.pl/webinar-26-06-zarzadzanie-projektem-a-procesy-operacyjne/
URL:https://wsparciemiast.pl/wydarzenie/webinar-mkir-26-06-zarzadzanie-projektem-a-procesy-operacyjne-droga-do-celu-czy-gaszenie-pozarow/
ATTACH;FMTTYPE=image/png:https://wsparciemiast.pl/wp-content/uploads/2025/01/CH_WWW_linie_tematyczne_m_kompetencji_i_r.png
END:VEVENT
BEGIN:VEVENT
DTSTART;TZID=Europe/Warsaw:20250626T100000
DTEND;TZID=Europe/Warsaw:20250626T123000
DTSTAMP:20260421T174511
CREATED:20250327T064905Z
LAST-MODIFIED:20250730T200205Z
UID:10220-1750932000-1750941000@wsparciemiast.pl
SUMMARY:FRL 26.06: Gospodarka obiegu zamkniętego
DESCRIPTION:Efektywne wykorzystanie zasobów dla lepszej przyszłości. \n\n\n\nProsimy o rejestrację swojego udziału w seminarium wyłącznie poprzez formularz internetowy: https://zoom.us/webinar/register/WN_hUmI30mBRz-YxFh7Hlfizg w terminie do 25 czerwca br. \n\n\n\nIndywidualny link do udziału w seminarium otrzymacie Państwo mailowo na adres wskazany w formularzu w potwierdzeniu rejestracji. W przypadku jakichkolwiek pytań prosimy o kontakt na skrzynkę mailową seminariafrl@zmp.poznan.pl \n\n\n\nWięcej: https://wsparciemiast.pl/frl-26-06-cyrkularne-miasta/
URL:https://wsparciemiast.pl/wydarzenie/frl-26-06-gospodarka-obiegu-zamknietego/
ATTACH;FMTTYPE=image/png:https://wsparciemiast.pl/wp-content/uploads/2024/09/logo-FRL.png
END:VEVENT
END:VCALENDAR