BEGIN:VCALENDAR
VERSION:2.0
PRODID:-//Centrum Konsultacyjne Polsko-Szwajcarskiego Programu Rozwoju Miast - ECPv6.15.20//NONSGML v1.0//EN
CALSCALE:GREGORIAN
METHOD:PUBLISH
X-ORIGINAL-URL:https://wsparciemiast.pl
X-WR-CALDESC:Wydarzenia dla Centrum Konsultacyjne Polsko-Szwajcarskiego Programu Rozwoju Miast
REFRESH-INTERVAL;VALUE=DURATION:PT1H
X-Robots-Tag:noindex
X-PUBLISHED-TTL:PT1H
BEGIN:VTIMEZONE
TZID:Europe/Warsaw
BEGIN:DAYLIGHT
TZOFFSETFROM:+0100
TZOFFSETTO:+0200
TZNAME:CEST
DTSTART:20240331T010000
END:DAYLIGHT
BEGIN:STANDARD
TZOFFSETFROM:+0200
TZOFFSETTO:+0100
TZNAME:CET
DTSTART:20241027T010000
END:STANDARD
BEGIN:DAYLIGHT
TZOFFSETFROM:+0100
TZOFFSETTO:+0200
TZNAME:CEST
DTSTART:20250330T010000
END:DAYLIGHT
BEGIN:STANDARD
TZOFFSETFROM:+0200
TZOFFSETTO:+0100
TZNAME:CET
DTSTART:20251026T010000
END:STANDARD
BEGIN:DAYLIGHT
TZOFFSETFROM:+0100
TZOFFSETTO:+0200
TZNAME:CEST
DTSTART:20260329T010000
END:DAYLIGHT
BEGIN:STANDARD
TZOFFSETFROM:+0200
TZOFFSETTO:+0100
TZNAME:CET
DTSTART:20261025T010000
END:STANDARD
END:VTIMEZONE
BEGIN:VEVENT
DTSTART;TZID=Europe/Warsaw:20250401T100000
DTEND;TZID=Europe/Warsaw:20250401T120000
DTSTAMP:20260421T210029
CREATED:20250217T100043Z
LAST-MODIFIED:20250409T132356Z
UID:9760-1743501600-1743508800@wsparciemiast.pl
SUMMARY:Webinar 01.04: Partycypacja w procesie inwestycyjnym (KPP)
DESCRIPTION:Zakres tematyczny:  \n\n\n\n\nEtapy realizacji przykładowego projektu w zakresie ochrony przyrody. \n\n\n\nOd analizy potrzeb mieszkańców do określenia ram współpracy na etapie wdrożenia. Narzędzia i metody angażowania społeczności. \n\n\n\nWyzwania oraz błędy występujące w procesach partycypacyjnych. \n\n\n\nPrzykłady zrealizowanych zielonych inwestycji miejskich z uwzględnieniem partycypacji społecznej. \n\n\n\n\nProwadzący: Lucyna Maury\, Wojciech Zarzycki\, Wojciech Kłosowski \n\n\n\nWięcej: https://wsparciemiast.pl/webinar-01-04-partycypacja-w-procesie-inwestycyjnym-kpp/
URL:https://wsparciemiast.pl/wydarzenie/webinar-moiw-01-04-partycypacja-w-procesie-inwestycyjnym-kpp/
ATTACH;FMTTYPE=image/png:https://wsparciemiast.pl/wp-content/uploads/2025/01/CH_WWW_linie_tobywateli_i_w.png
END:VEVENT
BEGIN:VEVENT
DTSTART;TZID=Europe/Warsaw:20250408T100000
DTEND;TZID=Europe/Warsaw:20250408T120000
DTSTAMP:20260421T210029
CREATED:20250218T062937Z
LAST-MODIFIED:20250409T131850Z
UID:9839-1744106400-1744113600@wsparciemiast.pl
SUMMARY:Webinar 08.04: Co zrobić\, gdy pojawi się konflikt w zespole\, urzędzie\, mieście? Czy od razu trzeba wzywać mediatora?
DESCRIPTION:Zakres tematyczny:  \n\n\n\n\nTypy konfliktu (drobna niezgoda\, poważne spory\, konflikt otwarty\, konflikt ukryty). \n\n\n\nUnikanie konfliktów (komunikowanie potrzeb i obaw\, aktywne słuchanie\, unikanie krytyki\, zrozumienie różnic\, wzajemny szacunek\, dążenie do porozumienia). \n\n\n\nIdentyfikacja i rozwiązywanie konkretnych problemów (przyczyn konfliktu); rola kompromisu. \n\n\n\nDefiniowanie celów i delegowanie odpowiedzialności. \n\n\n\n\nProwadzący: Agnieszka Dawydzik\, Łukasz Dąbrówka \n\n\n\nWięcej: https://wsparciemiast.pl/webinar-08-04-co-zrobic-gdy-pojawi-sie-konflikt-w-zespole-urzedzie-miescie/
URL:https://wsparciemiast.pl/wydarzenie/webinar-mkir-08-04-co-zrobic-gdy-pojawi-sie-konflikt-w-zespole-urzedzie-miescie-czy-od-razu-trzeba-wzywac-mediatora/
ATTACH;FMTTYPE=image/png:https://wsparciemiast.pl/wp-content/uploads/2025/01/CH_WWW_linie_tematyczne_m_kompetencji_i_r.png
END:VEVENT
BEGIN:VEVENT
DTSTART;TZID=Europe/Warsaw:20250415T100000
DTEND;TZID=Europe/Warsaw:20250415T120000
DTSTAMP:20260421T210029
CREATED:20250217T100831Z
LAST-MODIFIED:20250422T075134Z
UID:9763-1744711200-1744718400@wsparciemiast.pl
SUMMARY:Webinar 15.04: Co w trawie piszczy? Wykorzystanie wyników badań ankietowych w budowaniu relacji z mieszkańcami i interesariuszami
DESCRIPTION:Zakres tematyczny:  \n\n\n\n\nPraktyczne metody analizy wyników badań społecznych. \n\n\n\nOmówienie zastosowania wyników badań młodzieży\, liderów społeczności lokalnej oraz badań przedsiębiorców w planowaniu działań wspierających rozwój miasta. \n\n\n\nWskazanie sposobów wykorzystania wyników badań w dialogu z mieszkańcami i interesariuszami na potrzeby P-SPRM \n\n\n\n\nProwadzący: Joanna Sikorska\, Wojciech Zarzycki\, Andrzej Sobczyk \n\n\n\nWięcej: https://wsparciemiast.pl/webinar-15-04-co-w-trawie-piszczy/
URL:https://wsparciemiast.pl/wydarzenie/webinar-moiw-15-04-co-w-trawie-piszczy-wykorzystanie-wynikow-badan-ankietowych-w-budowaniu-relacji-z-mieszkancami-i-interesariuszami/
ATTACH;FMTTYPE=image/png:https://wsparciemiast.pl/wp-content/uploads/2025/01/CH_WWW_linie_tobywateli_i_w.png
END:VEVENT
BEGIN:VEVENT
DTSTART;TZID=Europe/Warsaw:20250425T100000
DTEND;TZID=Europe/Warsaw:20250425T123000
DTSTAMP:20260421T210029
CREATED:20250327T064555Z
LAST-MODIFIED:20250417T143112Z
UID:10216-1745575200-1745584200@wsparciemiast.pl
SUMMARY:FRL 25.04: Mobilność i transport publiczny
DESCRIPTION:Jak skutecznie zarządzać planami mobilności miejskiej? Jakie modele współpracy\, finansowania i integracji transportu funkcjonują w Szwajcarii? Jakie praktyki mogą inspirować polskie miasta? \n\n\n\nOdpowiedzi na te pytania poznasz podczas kolejnej edycji Forum Rozwoju Lokalnego organizowanego w ramach Polsko-Szwajcarskiego Programu Rozwoju Miast. \n\n\n\nW programie m.in.: \n\n\n\n\nstruktury zarządzania i finansowania mobilności miejskiej\,\n\n\n\nzintegrowane węzły przesiadkowe i rozwój transportu aglomeracyjnego\,\n\n\n\npromocja ruchu rowerowego i uspokajanie ruchu w Bernie.\n\n\n\n\nSpotkanie poprowadzą Łukasz Dąbrówka i Tomasz Kayser ze Związku Miast Polskich. Wśród prelegentów: przedstawiciele Transitec\, Szwajcarskich Kolei Federalnych\, Federalnego Urzędu ds. Rozwoju Przestrzennego oraz miasta Berna. \n\n\n\nProsimy o rejestrację swojego udziału w seminarium wyłącznie poprzez formularz internetowy https://zoom.us/webinar/register/WN_YEqPDqO2TGisNsRj4cAr4Q.Indywidualny link do udziału w seminarium otrzymacie Państwo mailowo na adres wskazany w formularzu w potwierdzeniu rejestracji. \n\n\n\nW przypadku jakichkolwiek pytań uprzejmie prosimy o kontakt na skrzynkę mailową seminariafrl@zmp.poznan.pl \n\n\n\nWięcej: https://wsparciemiast.pl/frl-25-04-mobilnosc-i-transport-publiczny/
URL:https://wsparciemiast.pl/wydarzenie/frl-25-04-mobilnosc-i-transport-publiczny/
ATTACH;FMTTYPE=image/png:https://wsparciemiast.pl/wp-content/uploads/2024/09/logo-FRL.png
END:VEVENT
END:VCALENDAR