BEGIN:VCALENDAR
VERSION:2.0
PRODID:-//Centrum Konsultacyjne Polsko-Szwajcarskiego Programu Rozwoju Miast - ECPv6.15.20//NONSGML v1.0//EN
CALSCALE:GREGORIAN
METHOD:PUBLISH
X-WR-CALNAME:Centrum Konsultacyjne Polsko-Szwajcarskiego Programu Rozwoju Miast
X-ORIGINAL-URL:https://wsparciemiast.pl
X-WR-CALDESC:Wydarzenia dla Centrum Konsultacyjne Polsko-Szwajcarskiego Programu Rozwoju Miast
REFRESH-INTERVAL;VALUE=DURATION:PT1H
X-Robots-Tag:noindex
X-PUBLISHED-TTL:PT1H
BEGIN:VTIMEZONE
TZID:Europe/Warsaw
BEGIN:DAYLIGHT
TZOFFSETFROM:+0100
TZOFFSETTO:+0200
TZNAME:CEST
DTSTART:20240331T010000
END:DAYLIGHT
BEGIN:STANDARD
TZOFFSETFROM:+0200
TZOFFSETTO:+0100
TZNAME:CET
DTSTART:20241027T010000
END:STANDARD
BEGIN:DAYLIGHT
TZOFFSETFROM:+0100
TZOFFSETTO:+0200
TZNAME:CEST
DTSTART:20250330T010000
END:DAYLIGHT
BEGIN:STANDARD
TZOFFSETFROM:+0200
TZOFFSETTO:+0100
TZNAME:CET
DTSTART:20251026T010000
END:STANDARD
BEGIN:DAYLIGHT
TZOFFSETFROM:+0100
TZOFFSETTO:+0200
TZNAME:CEST
DTSTART:20260329T010000
END:DAYLIGHT
BEGIN:STANDARD
TZOFFSETFROM:+0200
TZOFFSETTO:+0100
TZNAME:CET
DTSTART:20261025T010000
END:STANDARD
END:VTIMEZONE
BEGIN:VEVENT
DTSTART;TZID=Europe/Warsaw:20250318T100000
DTEND;TZID=Europe/Warsaw:20250318T120000
DTSTAMP:20260421T225303
CREATED:20250218T062724Z
LAST-MODIFIED:20250319T074857Z
UID:9836-1742292000-1742299200@wsparciemiast.pl
SUMMARY:Webinar 18.03: Skuteczna komunikacja – szansa na lepsze miejsce pracy czy kolejna procedura?
DESCRIPTION:Zakres tematyczny:  \n\n\n\n\nCele i funkcje komunikacji - wpływ efektywnej komunikacji na realizację celów organizacyjnych oraz role komunikacji w codziennym funkcjonowaniu urzędu.  \n\n\n\nStrategie komunikacji - modele komunikacji dostosowane do potrzeb i oczekiwań różnych grup pracowników oraz kierownictwa\, narzędzia mierzenia efektywności strategii komunikacji.  \n\n\n\nBariery i błędy w komunikacji - przeszkody w komunikacji wewnętrznej i zewnętrznej oraz sposoby ich skutecznej eliminacji. \n\n\n\n\nProwadzący: Justyna Pietrzykowska\, Łukasz Dąbrówka\, Grzegorz Dudzik \n\n\n\nWięcej: https://wsparciemiast.pl/webinar-18-03-skuteczna-komunikacja-szansa-na-lepsze-miejsce-pracy-czy-kolejna-procedura/
URL:https://wsparciemiast.pl/wydarzenie/webinar-mkir-18-03-skuteczna-komunikacja-szansa-na-lepsze-miejsce-pracy-czy-kolejna-procedura/
ATTACH;FMTTYPE=image/png:https://wsparciemiast.pl/wp-content/uploads/2025/01/CH_WWW_linie_tematyczne_m_kompetencji_i_r.png
END:VEVENT
BEGIN:VEVENT
DTSTART;TZID=Europe/Warsaw:20250320T100000
DTEND;TZID=Europe/Warsaw:20250320T123000
DTSTAMP:20260421T225303
CREATED:20250310T104817Z
LAST-MODIFIED:20250310T105646Z
UID:10081-1742464800-1742473800@wsparciemiast.pl
SUMMARY:FRL 20.03: Szwajcarskie podejście do partycypacji mieszkańców - Jak zwiększyć zaangażowanie lokalnej społeczności w rozwój miasta
DESCRIPTION:Zapraszamy do udziału w Forum Rozwoju Lokalnego\, pierwszym organizowanym w ramach Polsko-Szwajcarskiego Programu Rozwoju Miast. Seminarium poświęcone jest tematyce podejścia do partycypacji mieszkańców i zwiększania zaangażowania lokalnej społeczności w rozwój miasta na przykładach szwajcarskich. \n\n\n\n\nPrezentacje szwajcarskich ekspertów na temat innowacyjnych rozwiązań partycypacyjnych.\n\n\n\nPrzykłady z miast dotyczące angażowania obywateli w zarządzanie miastem.\n\n\n\nDyskusje na temat strategii i instrumentów zarządzania partycypacyjnego.\n\n\n\nWymiana doświadczeń między uczestnikami seminarium.\n\n\n\nSesja pytań i odpowiedzi z ekspertami.\n\n\n\n\nProsimy o rejestrację swojego udziału w seminarium wyłącznie poprzez formularz internetowyhttps://zoom.us/webinar/register/WN_Edh-aypRTTipRBXyjn3_ZA w terminie do 19 marca br. Indywidualny link do udziału w seminarium otrzymacie Państwo mailowo na adres wskazany w formularzu w potwierdzeniu rejestracji. \n\n\n\nW przypadku jakichkolwiek pytań uprzejmie prosimy o kontakt na skrzynkę mailową seminariafrl@zmp.poznan.pl \n\n\n\nWięcej: https://wsparciemiast.pl/frl-20-03-szwajcarskie-podejscie-do-partycypacji-mieszkancow-miast/
URL:https://wsparciemiast.pl/wydarzenie/frl-20-03-szwajcarskie-podejscie-do-partycypacji-mieszkancow/
ATTACH;FMTTYPE=image/png:https://wsparciemiast.pl/wp-content/uploads/2024/09/logo-FRL.png
END:VEVENT
BEGIN:VEVENT
DTSTART;TZID=Europe/Warsaw:20250327T100000
DTEND;TZID=Europe/Warsaw:20250327T120000
DTSTAMP:20260421T225303
CREATED:20250217T103714Z
LAST-MODIFIED:20250401T080005Z
UID:9788-1743069600-1743076800@wsparciemiast.pl
SUMMARY:Webinar 27.03: Koncepcja miasta odpornego - resilient city
DESCRIPTION:Zakres tematyczny:  \n\n\n\n\nWprowadzenie do podstawowych założeń koncepcji miasta odpornego\,  z naciskiem na adaptację do zmian klimatycznych. \n\n\n\nOmówienie strategii i praktyk pomagających miastom dostosować się do skutków zmian klimatycznych\, takich jak ekstremalne zjawiska pogodowe. \n\n\n\nZarządzanie ryzykiem katastrof naturalnych\, w tym planowanie i wdrażanie środków zapobiegawczych oraz wzmacnianie infrastruktury krytycznej (systemy transportowe\, energetyczne\, wodociągowe). \n\n\n\nZrównoważone planowanie miejskie\, wspieranie społeczności lokalnych i gospodarek miejskich w radzeniu sobie z kryzysami oraz przykłady dobrych praktyk z miast na całym świecie. \n\n\n\n\nProwadzący: Piotr Górka\, Wiesława Kwiatkowska\, Ryszard Grobelny\, Aldo Vargas-Tetmajer \n\n\n\nWięcej: https://wsparciemiast.pl/webinar-27-03-koncepcja-miasta-odpornego-resilient-city/
URL:https://wsparciemiast.pl/wydarzenie/webinar-mbio-27-03-koncepcja-miasta-odpornego-resilient-city/
ATTACH;FMTTYPE=image/png:https://wsparciemiast.pl/wp-content/uploads/2025/01/CH_WWW_linie_tematyczne_m_bezpieczne_i_o.png
END:VEVENT
END:VCALENDAR