BEGIN:VCALENDAR
VERSION:2.0
PRODID:-//Centrum Konsultacyjne Polsko-Szwajcarskiego Programu Rozwoju Miast - ECPv6.15.20//NONSGML v1.0//EN
CALSCALE:GREGORIAN
METHOD:PUBLISH
X-ORIGINAL-URL:https://wsparciemiast.pl
X-WR-CALDESC:Wydarzenia dla Centrum Konsultacyjne Polsko-Szwajcarskiego Programu Rozwoju Miast
REFRESH-INTERVAL;VALUE=DURATION:PT1H
X-Robots-Tag:noindex
X-PUBLISHED-TTL:PT1H
BEGIN:VTIMEZONE
TZID:Europe/Warsaw
BEGIN:DAYLIGHT
TZOFFSETFROM:+0100
TZOFFSETTO:+0200
TZNAME:CEST
DTSTART:20240331T010000
END:DAYLIGHT
BEGIN:STANDARD
TZOFFSETFROM:+0200
TZOFFSETTO:+0100
TZNAME:CET
DTSTART:20241027T010000
END:STANDARD
BEGIN:DAYLIGHT
TZOFFSETFROM:+0100
TZOFFSETTO:+0200
TZNAME:CEST
DTSTART:20250330T010000
END:DAYLIGHT
BEGIN:STANDARD
TZOFFSETFROM:+0200
TZOFFSETTO:+0100
TZNAME:CET
DTSTART:20251026T010000
END:STANDARD
BEGIN:DAYLIGHT
TZOFFSETFROM:+0100
TZOFFSETTO:+0200
TZNAME:CEST
DTSTART:20260329T010000
END:DAYLIGHT
BEGIN:STANDARD
TZOFFSETFROM:+0200
TZOFFSETTO:+0100
TZNAME:CET
DTSTART:20261025T010000
END:STANDARD
END:VTIMEZONE
BEGIN:VEVENT
DTSTART;TZID=Europe/Warsaw:20250225T100000
DTEND;TZID=Europe/Warsaw:20250225T120000
DTSTAMP:20260422T003410
CREATED:20250217T141106Z
LAST-MODIFIED:20250304T093109Z
UID:9833-1740477600-1740484800@wsparciemiast.pl
SUMMARY:Webinar 25.02: Zarządzanie projektowe w urzędzie – dostrojenie czy dysharmonia?
DESCRIPTION:Zakres tematyczny:  \n\n\n\n\nMetody i narzędzia zapewniania efektywności\, skuteczności\, użyteczności oraz żywotności projektów\, realizowanych w realiach urzędów miejskich.  \n\n\n\nWpływ kultury organizacyjnej i postaw najwyższego kierownictwa na realizację projektu. \n\n\n\nZasady pozyskiwania osób i zasobów do realizacji projektu/projektów. \n\n\n\nSposoby uzgadniania z partnerami: strategii współpracy\, wspólnych celów\, planu/harmonogramu działań projektowych. \n\n\n\nNarzędzia wspierające zarządzanie projektowe (narzędzie identyfikacji cech kultury organizacyjnej\, narzędzia mapowania celów i wsparcia kierownictwa\, narzędzia analizy organizacyjnego układu sił oraz stosowanie analizy transakcyjnej\, narzędzia pozyskiwania ludzi i zasobów). \n\n\n\n\nProwadzący: Grzegorz Dziarski\, Anna Żabińska-Pioterek\, Wojciech Kłosowski \n\n\n\nWięcej: https://wsparciemiast.pl/webinar-mkir-25-02-zarzadzanie-projektowe-w-urzedzie-dostrojenie-czy-dysharmonia/
URL:https://wsparciemiast.pl/wydarzenie/webinar-mkir-25-02-zarzadzanie-projektowe-w-urzedzie-dostrojenie-czy-dysharmonia/
ATTACH;FMTTYPE=image/png:https://wsparciemiast.pl/wp-content/uploads/2025/01/CH_WWW_linie_tematyczne_m_kompetencji_i_r.png
END:VEVENT
END:VCALENDAR