BEGIN:VCALENDAR
VERSION:2.0
PRODID:-//Centrum Konsultacyjne Polsko-Szwajcarskiego Programu Rozwoju Miast - ECPv6.15.20//NONSGML v1.0//EN
CALSCALE:GREGORIAN
METHOD:PUBLISH
X-WR-CALNAME:Centrum Konsultacyjne Polsko-Szwajcarskiego Programu Rozwoju Miast
X-ORIGINAL-URL:https://wsparciemiast.pl
X-WR-CALDESC:Wydarzenia dla Centrum Konsultacyjne Polsko-Szwajcarskiego Programu Rozwoju Miast
REFRESH-INTERVAL;VALUE=DURATION:PT1H
X-Robots-Tag:noindex
X-PUBLISHED-TTL:PT1H
BEGIN:VTIMEZONE
TZID:Europe/Warsaw
BEGIN:DAYLIGHT
TZOFFSETFROM:+0100
TZOFFSETTO:+0200
TZNAME:CEST
DTSTART:20230326T010000
END:DAYLIGHT
BEGIN:STANDARD
TZOFFSETFROM:+0200
TZOFFSETTO:+0100
TZNAME:CET
DTSTART:20231029T010000
END:STANDARD
BEGIN:DAYLIGHT
TZOFFSETFROM:+0100
TZOFFSETTO:+0200
TZNAME:CEST
DTSTART:20240331T010000
END:DAYLIGHT
BEGIN:STANDARD
TZOFFSETFROM:+0200
TZOFFSETTO:+0100
TZNAME:CET
DTSTART:20241027T010000
END:STANDARD
BEGIN:DAYLIGHT
TZOFFSETFROM:+0100
TZOFFSETTO:+0200
TZNAME:CEST
DTSTART:20250330T010000
END:DAYLIGHT
BEGIN:STANDARD
TZOFFSETFROM:+0200
TZOFFSETTO:+0100
TZNAME:CET
DTSTART:20251026T010000
END:STANDARD
END:VTIMEZONE
BEGIN:VEVENT
DTSTART;TZID=Europe/Warsaw:20241205T100000
DTEND;TZID=Europe/Warsaw:20241205T120000
DTSTAMP:20260422T033121
CREATED:20241112T073236Z
LAST-MODIFIED:20241209T063936Z
UID:8853-1733392800-1733400000@wsparciemiast.pl
SUMMARY:Webinar: OM Wymogi formalne 11
DESCRIPTION:Zapraszamy na kolejny webinar zatytułowany Poznaj bliżej Polsko-Szwajcarski Program Rozwoju Miast – sesja pytań i odpowiedzi\, który w całości poświecimy odpowiedziom na zadawane przez Państwa na żywo pytania i wątpliwości dotyczące Polsko-Szwajcarskiego Programu Rozwoju Miast. \n\n\n\nW trakcie webinaru: \n\n\n\n\nOdpowiemy na Wasze pytania dotyczące regulaminu i dokumentacji naborowej\n\n\n\nPostaramy się rozwiać Wasze wątpliwości\n\n\n\nWspólnie zastanowimy się jak lepiej przygotować projekty w naborze.\n\n\n\n\nProponowana sesja pytań i odpowiedzi będzie miała miejsce w formule on-line na platformie zoom. \n\n\n\nProwadzący: Basia Łączna\, Joanna Cwiklińska-Ziomek\, Grzegorz Godziek \n\n\n\nWięcej: https://wsparciemiast.pl/9076-2/
URL:https://wsparciemiast.pl/wydarzenie/webinar-om-wymogi-formalne-11/
ATTACH;FMTTYPE=image/png:https://wsparciemiast.pl/wp-content/uploads/2024/02/CH_www_1185x1185_wymogi-formalne.png
END:VEVENT
BEGIN:VEVENT
DTSTART;TZID=Europe/Warsaw:20241217T100000
DTEND;TZID=Europe/Warsaw:20241217T120000
DTSTAMP:20260422T033121
CREATED:20241202T084501Z
LAST-MODIFIED:20241202T102605Z
UID:9027-1734429600-1734436800@wsparciemiast.pl
SUMMARY:Warsztat online dla decydentów samorządowych
DESCRIPTION:Spotkanie informacyjne dla prezydentów i burmistrzów miast wnioskodawców w ramach Polsko-Szwajcarskiego Programu Rozwoju Miast. \n\n\n\nSpotkanie 17 grudnia 2024 r. w formie online dla omówienia kluczowych zagadnień przed końcem terminu składania formularzy aplikacyjnych. \n\n\n\n\nPrzegląd listy sprawdzającej\n\n\n\nWskazanie elementów aplikacji niosących ryzyko odrzucenia\n\n\n\nPrzebieg spotkania burmistrza/prezydenta z zespołem projektowym\n\n\n\nOmówienie najczęstszych zagadnień zgłaszanych do Centrum Konsultacyjnego\n\n\n\n\nWięcej: https://wsparciemiast.pl/last-call-wszystko-co-chcielibyscie-wiedziec-o-szwajcarze-na-miesiac-przed-zlozeniem-wniosku/ \n\n\nAby wypełnić ten formularz\, włącz obsługę JavaScript w przeglądarce.Aby wypełnić ten formularz\, włącz obsługę JavaScript w przeglądarce.Dane kontaktowe *PierwszyOstatniAdres e-mail *Proszę o podanie adresu e-mail oraz numeru telefonu\, pod którymi będzie można najszybciej potwierdzić Pani/Pana rejestrację.\n \nNa podany adres po przesłaniu formularza otrzymają Państwo potwierdzenie rejestracji. \nW przypadku nie otrzymania wiadomości prosimy o ponowne wypełnienie formularza oraz  sprawdzenie poprawności wpisanego adresu email.  Numer telefonu *Nazwa miasta lub Instytucji *Proszę wpisać tylko samą nazwę miasta (bez dodatkowych zapisów typu Miasto xxx\, Gmina miejska xxxx\, itp.) Typ reprezentowanej instytucji *Jednostka samorządu terytorialnegoInna jednostka administracjiOrganizacja pozarządowaFirma prywatnaInstytucja edukacyjnaMediaInny podmiotDodatkowe pytaniaJeśli ma Pani/Pan pytania dotyczące omawianego obszaru to prosimy o wskazanie ich poniżej\, pozwoli nam to jeszcze lepiej przygotować się do spotkania.KLAUZULA INFORMACYJNA o przetwarzaniu danych osobowych w ramach projektu *Zapoznałam/em się z informacją o przetwarzaniu moich danych osobowych.Link do pełnej treści: \nKLAUZULA INFORMACYJNAZgoda na utrwalenie i publikację wizerunku *TakWyrażam zgodę na utrwalenie i publikację wizerunku na stronach internetowych i w mediach społecznościowych Administratora oraz podmiotów\, którym powierzono do przetwarzania moje dane osobowe. *Ewentualne uwagi i oczekiwaniaZapisz się
URL:https://wsparciemiast.pl/wydarzenie/webinar-dla-decydentow-samorzadowych/
ATTACH;FMTTYPE=image/png:https://wsparciemiast.pl/wp-content/uploads/2024/02/CH_www_1185x1185_OT_13.png
END:VEVENT
END:VCALENDAR