BEGIN:VCALENDAR
VERSION:2.0
PRODID:-//Centrum Konsultacyjne Polsko-Szwajcarskiego Programu Rozwoju Miast - ECPv6.15.20//NONSGML v1.0//EN
CALSCALE:GREGORIAN
METHOD:PUBLISH
X-WR-CALNAME:Centrum Konsultacyjne Polsko-Szwajcarskiego Programu Rozwoju Miast
X-ORIGINAL-URL:https://wsparciemiast.pl
X-WR-CALDESC:Wydarzenia dla Centrum Konsultacyjne Polsko-Szwajcarskiego Programu Rozwoju Miast
REFRESH-INTERVAL;VALUE=DURATION:PT1H
X-Robots-Tag:noindex
X-PUBLISHED-TTL:PT1H
BEGIN:VTIMEZONE
TZID:Europe/Warsaw
BEGIN:DAYLIGHT
TZOFFSETFROM:+0100
TZOFFSETTO:+0200
TZNAME:CEST
DTSTART:20230326T010000
END:DAYLIGHT
BEGIN:STANDARD
TZOFFSETFROM:+0200
TZOFFSETTO:+0100
TZNAME:CET
DTSTART:20231029T010000
END:STANDARD
BEGIN:DAYLIGHT
TZOFFSETFROM:+0100
TZOFFSETTO:+0200
TZNAME:CEST
DTSTART:20240331T010000
END:DAYLIGHT
BEGIN:STANDARD
TZOFFSETFROM:+0200
TZOFFSETTO:+0100
TZNAME:CET
DTSTART:20241027T010000
END:STANDARD
BEGIN:DAYLIGHT
TZOFFSETFROM:+0100
TZOFFSETTO:+0200
TZNAME:CEST
DTSTART:20250330T010000
END:DAYLIGHT
BEGIN:STANDARD
TZOFFSETFROM:+0200
TZOFFSETTO:+0100
TZNAME:CET
DTSTART:20251026T010000
END:STANDARD
END:VTIMEZONE
BEGIN:VEVENT
DTSTART;TZID=Europe/Warsaw:20241001T100000
DTEND;TZID=Europe/Warsaw:20241001T120000
DTSTAMP:20260422T064350
CREATED:20240822T194912Z
LAST-MODIFIED:20241003T062018Z
UID:7483-1727776800-1727784000@wsparciemiast.pl
SUMMARY:Webinar: OT 11. Mniejszości i grupy w niekorzystnej sytuacji społecznej praktycznie - jak dobrze wpisać działania w logikę projektu
DESCRIPTION:Opowiadając o projekcie „Bezpieczne\, zdrowe i czyste Przykładowo” skupimy się na działaniu\, które zatytułowaliśmy „Uruchomienie centrum wsparcia osób w kryzysie bezdomności”. Przygotowane przez nas działanie dotyka takich zagadnień jak: \n\n\n\n\nwsparcie osób w kryzysie bezdomności – wyzwanie dla miast;\n\n\n\nkompleksowe podejście do pomocy: praca streetworkerów\, centra integracji społecznej;\n\n\n\nwsparcie dla służb pomocy społecznej\, straży miejskiej i organizacji pozarządowych;\n\n\n\nplan działań integracyjnych z korzyściami dla całej lokalnej społeczności.\n\n\n\nDziałanie zostanie wpisane w kontekst całego projektu „Bezpieczne\, zdrowe i czyste Przykładowo” pokazując wewnętrzną komplementarność działań\, zastosowanie polityk horyzontalnych\, kwestie formalne (budżetowanie\, wskaźniki). Na końcu przewidujemy sesję pytań\, dla tych\, którzy będą chcieli pogłębić prezentowana tematykę lub dopytać o szczegóły tak przygotowanego projektu. \nWięcej: https://wsparciemiast.pl/webinar-01-10-ot11-jak-dobrze-wpisac-dzialania-w-logike-projektu/
URL:https://wsparciemiast.pl/wydarzenie/webinar-ot-11-mniejszosci-i-grupy-w-niekorzystnej-sytuacji-spolecznej-praktycznie-jak-dobrze-wpisac-dzialania-w-logike-projektu/
ATTACH;FMTTYPE=image/png:https://wsparciemiast.pl/wp-content/uploads/2024/02/CH_www_1185x1185_OT_11.png
END:VEVENT
BEGIN:VEVENT
DTSTART;TZID=Europe/Warsaw:20241002T100000
DTEND;TZID=Europe/Warsaw:20241002T120000
DTSTAMP:20260422T064350
CREATED:20240822T202640Z
LAST-MODIFIED:20241003T062028Z
UID:7498-1727863200-1727870400@wsparciemiast.pl
SUMMARY:Webinar: OT 9. Ochrona przyrody i różnorodność biologiczna praktycznie - jak dobrze wpisać działania w logikę projektu
DESCRIPTION:Opowiadając o projekcie „Miasto zielone\, odporne na zmiany klimatyczne i przyjazne swoim mieszkańcom” skupimy się na działaniu\, które zatytułowaliśmy „Zielone i odporne na zmiany klimatyczne Miasto”. Przygotowane przez nas działanie dotyka takich zagadnień jak: \n\n\n\n\nuodpornienie miasta na skutki zmian klimatycznych;\n\n\n\nzatrzymanie wody w krajobrazie;\n\n\n\nprojekt jako kompleksowy system zarządzania wodą\, ochrony przed powodziami i podtopieniami;\n\n\n\nzestaw działań równoważących dostępność wody w mieście w obliczu upałów i susz.\n\n\n\n\nDziałanie zostanie wpisane w kontekst całego projektu „Miasto zielone\, odporne na zmiany klimatyczne i przyjazne swoim mieszkańcom” pokazując wewnętrzną komplementarność działań\, zastosowanie polityk horyzontalnych\, kwestie formalne (budżetowanie\, wskaźniki). Na końcu przewidujemy sesję pytań\, dla tych\, którzy będą chcieli pogłębić prezentowana tematykę lub dopytać o szczegóły tak przygotowanego projektu. \n\n\n\nWięcej: https://wsparciemiast.pl/webinar-02-10-ot9-jak-dobrze-wpisac-dzialania-w-logike-projektu/
URL:https://wsparciemiast.pl/wydarzenie/webinar-ot-9-ochrona-przyrody-i-roznorodnosc-biologiczna-praktycznie-jak-dobrze-wpisac-dzialania-w-logike-projektu/
ATTACH;FMTTYPE=image/png:https://wsparciemiast.pl/wp-content/uploads/2024/02/CH_www_1185x1185_OT_9.png
END:VEVENT
BEGIN:VEVENT
DTSTART;TZID=Europe/Warsaw:20241003T100000
DTEND;TZID=Europe/Warsaw:20241003T120000
DTSTAMP:20260422T064350
CREATED:20240822T200025Z
LAST-MODIFIED:20241007T064852Z
UID:7486-1727949600-1727956800@wsparciemiast.pl
SUMMARY:Webinar: OT 2. Finansowanie dla mikro\, małych i średnich przedsiębiorstw praktycznie - jak dobrze wpisać działania w logikę projektu
DESCRIPTION:Opowiadając o projekcie „Naoliwiona Kruszwica” skupimy się na działaniu\, które zatytułowaliśmy „Naoliwiona gospodarka”. Przygotowane przez nas działanie dotyka takich zagadnień jak: \n\n\n\n\nbudowanie relacji między samorządem\, a przedsiębiorcami – klucz do sukcesu lokalnego rozwoju społeczno-gospodarczego;\n\n\n\nprogramy rozwoju przedsiębiorczości\, promocja postaw pro-przedsiębiorczych różnych grup społecznych;\n\n\n\nedukacja ekonomiczna i atrakcyjny wizerunek gospodarczy miasta – stały element kształtowania działań rozwojowych w mieście;\n\n\n\ndziałania na rzecz uzbrojenia terenów inwestycyjnych i granty dla MŚP.\n\n\n\n\nDziałanie zostanie wpisane w kontekst całego projektu „Naoliwiona Kruszwica” pokazując wewnętrzną komplementarność działań\, zastosowanie polityk horyzontalnych\, kwestie formalne (budżetowanie\, wskaźniki). Na końcu przewidujemy sesję pytań\, dla tych\, którzy będą chcieli pogłębić prezentowana tematykę lub dopytać o szczegóły tak przygotowanego projektu. \n\n\n\nWięcej: https://wsparciemiast.pl/webinar-02-10-ot2-jak-dobrze-wpisac-dzialania-w-logike-projektu/
URL:https://wsparciemiast.pl/wydarzenie/webinar-ot-2-finansowanie-dla-mikro-malych-i-srednich-przedsiebiorstw-praktycznie-jak-dobrze-wpisac-dzialania-w-logike-projektu/
ATTACH;FMTTYPE=image/png:https://wsparciemiast.pl/wp-content/uploads/2024/02/CH_www_1185x1185_OT_2.png
END:VEVENT
BEGIN:VEVENT
DTSTART;TZID=Europe/Warsaw:20241004T100000
DTEND;TZID=Europe/Warsaw:20241004T120000
DTSTAMP:20260422T064350
CREATED:20240822T200604Z
LAST-MODIFIED:20241014T093228Z
UID:7488-1728036000-1728043200@wsparciemiast.pl
SUMMARY:Webinar: OT 1. Kształcenie oraz szkolenie zawodowe i specjalistyczne praktycznie - jak dobrze wpisać działania w logikę projektu
DESCRIPTION:Opowiadając o projekcie „Naoliwiona Kruszwica” skupimy się na działaniu\, które zatytułowaliśmy „Dolewanie oliwy do ognia – kreowanie ścieżek zawodowych wspierających lokalną gospodarkę”. Przygotowane przez nas działanie dotyka takich zagadnień jak: \n\n\n\n\nwspółpraca samorządów z przedsiębiorcami dla dostosowania edukacji do rynku pracy;\n\n\n\nścieżki kariery zawodowej zgodne z potrzebami lokalnych pracodawców;\n\n\n\nustalanie form współpracy między szkołami\, przedsiębiorcami i rodzicami;\n\n\n\nprojekty inwestycyjne dla poprawy infrastruktury edukacyjnej.\n\n\n\n\nDziałanie zostanie wpisane w kontekst całego projektu „Naoliwiona Kruszwica” pokazując wewnętrzną komplementarność działań\, zastosowanie polityk horyzontalnych\, kwestie formalne (budżetowanie\, wskaźniki). Na końcu przewidujemy sesję pytań\, dla tych\, którzy będą chcieli pogłębić prezentowana tematykę lub dopytać o szczegóły tak przygotowanego projektu. \n\n\n\nWięcej: https://wsparciemiast.pl/webinar-04-10-ot1-jak-dobrze-wpisac-dzialania-w-logike-projektu/
URL:https://wsparciemiast.pl/wydarzenie/webinar-ot-1-ksztalcenie-oraz-szkolenie-zawodowe-i-specjalistyczne-praktycznie-jak-dobrze-wpisac-dzialania-w-logike-projektu/
ATTACH;FMTTYPE=image/png:https://wsparciemiast.pl/wp-content/uploads/2024/02/CH_www_1185x1185_OT_1.png
END:VEVENT
BEGIN:VEVENT
DTSTART;TZID=Europe/Warsaw:20241008T140000
DTEND;TZID=Europe/Warsaw:20241008T160000
DTSTAMP:20260422T064350
CREATED:20240919T082704Z
LAST-MODIFIED:20241004T112409Z
UID:8111-1728396000-1728403200@wsparciemiast.pl
SUMMARY:Spotkanie informacyjne: Polsko-Szwajcarski Program Rozwoju Miast (Kraków)
DESCRIPTION:Polsko-Szwajcarski Program Rozwoju Miast. Spotkanie i networking \n\n\n\n\nKraków\, 8 października 2024 r.\, Kongres Polityki Miejskiej i Regionalnej\n\n\n\nCentrum Konferencyjne Fabryczna 13\, sala Synergia 3\n\n\n\n\nAmbasador Szwajcarii Fabrice Filliez\, Wiceminister Rozwoju i Polityki Regionalnej Konrad Wojnarowski i Wiceprezes Związku Miast Polskich Jakub Banaszek zapraszają miasta na spotkanie przygotowujące do złożenia Wstępnych Propozycji Projektów w ramach Polsko-Szwajcarskiego Programu Rozwoju Miast. \n\n\n\nSpotkanie jest adresowane do burmistrzów i prezydentów miast – potencjalnych wnioskodawców i odbędzie się w ramach Kongresu Polityki Miejskiej i Regionalnej w Krakowie. \n\n\n\nW trakcie spotkania omówione zostaną kluczowe zagadnienia regulaminowe\, tzw. warunki brzegowe\, które są najczęściej wskazywane przez miasta jako wymagające doprecyzowania\, a które mają bardzo istotny wpływ na zakres opracowywanych w ramach naboru Wstępnych Propozycji Projektu. Zaplanowano także sesję pytań i odpowiedzi. \n\n\n\nWięcej: https://wsparciemiast.pl/spotkanie-informacyjne-08-10-krakow-dopinamy-projekty-na-ostatni-guzik/ \n\n\n\nLiczba miejsc wyczerpana
URL:https://wsparciemiast.pl/wydarzenie/spotkanie-informacyjne-polsko-szwajcarski-program-rozwoju-miast/
ATTACH;FMTTYPE=image/png:https://wsparciemiast.pl/wp-content/uploads/2024/02/CH_www_1185x1185_OT_13.png
END:VEVENT
BEGIN:VEVENT
DTSTART;TZID=Europe/Warsaw:20241015T100000
DTEND;TZID=Europe/Warsaw:20241015T120000
DTSTAMP:20260422T064350
CREATED:20240822T202246Z
LAST-MODIFIED:20241018T082936Z
UID:7496-1728986400-1728993600@wsparciemiast.pl
SUMMARY:Webinar: OT 6. Transport publiczny praktycznie - jak dobrze wpisać działania w logikę projektu
DESCRIPTION:Opowiadając o projekcie „Bezpieczne\, zdrowe i czyste Przykładowo” skupimy się na działaniu\, które zatytułowaliśmy „Wspieranie zrównoważonej mobilności miejskiej”. Przygotowane przez nas działanie dotyka takich zagadnień jak: \n\n\n\n\njak uzasadniać diagnostycznie zadania z obszaru transportu publicznego?\n\n\n\nspecyfika uzyskiwania prawomocnych pozwoleń na budowę w obszarze drogownictwa;\n\n\n\ndziałania transportowe\, a udział interesariuszy i partycypacja społeczna;\n\n\n\ninfrastruktura piesza i rowerowa – uzasadnianie działań;\n\n\n\ninfrastruktura przewozów autobusami zeroemisyjnymi oraz hybrydowymi PHEV.\n\n\n\n\nDziałanie zostanie wpisane w kontekst całego projektu „Bezpieczne\, zdrowe i czyste Przykładowo” pokazując wewnętrzną komplementarność działań\, zastosowanie polityk horyzontalnych\, kwestie formalne (budżetowanie\, wskaźniki). Na końcu przewidujemy sesję pytań\, dla tych\, którzy będą chcieli pogłębić prezentowana tematykę lub dopytać o szczegóły tak przygotowanego projektu. \n\n\n\nWięcej: https://wsparciemiast.pl/webinar-15-10-ot6-jak-dobrze-wpisac-dzialania-w-logike-projektu/
URL:https://wsparciemiast.pl/wydarzenie/webinar-ot-6-transport-publiczny-praktycznie-jak-dobrze-wpisac-dzialania-w-logike-projektu/
ATTACH;FMTTYPE=image/png:https://wsparciemiast.pl/wp-content/uploads/2024/02/CH_www_1185x1185_OT_6.png
END:VEVENT
BEGIN:VEVENT
DTSTART;TZID=Europe/Warsaw:20241016T100000
DTEND;TZID=Europe/Warsaw:20241016T120000
DTSTAMP:20260422T064350
CREATED:20240822T201907Z
LAST-MODIFIED:20241018T083009Z
UID:7494-1729072800-1729080000@wsparciemiast.pl
SUMMARY:Webinar: OT 8. Zarządzanie odpadami praktycznie - jak dobrze wpisać działania w logikę projektu
DESCRIPTION:Opowiadając o projekcie „Naoliwiona Kruszwica” skupimy się na działaniu\, które zatytułowaliśmy „Zarządzanie odpadami: efektywne metody i nowoczesne rozwiązania”. Przygotowane przez nas działanie dotyka takich zagadnień jak: \n\n\n\n\nbudowa nowoczesnego PSZOKu;\n\n\n\ngranty na rozwój Gospodarki Obiegu Zamkniętego;\n\n\n\nprogramy edukacyjne na rzecz selektywnej zbiórki odpadów i gospodarki cyrkularnej.\n\n\n\n\nDziałanie zostanie wpisane w kontekst całego projektu „Naoliwiona Kruszwica” pokazując wewnętrzną komplementarność działań\, zastosowanie polityk horyzontalnych\, kwestie formalne (budżetowanie\, wskaźniki). Na końcu przewidujemy sesję pytań\, dla tych\, którzy będą chcieli pogłębić prezentowana tematykę lub dopytać o szczegóły tak przygotowanego projektu. \n\n\n\nWięcej: https://wsparciemiast.pl/webinar-16-10-ot8-jak-dobrze-wpisac-dzialania-w-logike-projektu/
URL:https://wsparciemiast.pl/wydarzenie/webinar-ot-8-zarzadzanie-odpadami-praktycznie-jak-dobrze-wpisac-dzialania-w-logike-projektu/
ATTACH;FMTTYPE=image/png:https://wsparciemiast.pl/wp-content/uploads/2024/02/CH_www_1185x1185_OT_8.png
END:VEVENT
BEGIN:VEVENT
DTSTART;TZID=Europe/Warsaw:20241017T100000
DTEND;TZID=Europe/Warsaw:20241017T120000
DTSTAMP:20260422T064350
CREATED:20240822T201128Z
LAST-MODIFIED:20241018T082943Z
UID:7491-1729159200-1729166400@wsparciemiast.pl
SUMMARY:Webinar: OT 5. Efektywność energetyczna i energia odnawialna praktycznie - jak dobrze wpisać działania w logikę projektu
DESCRIPTION:Opowiadając o projekcie „Bezpieczne\, zdrowe i czyste Przykładowo” skupimy się na działaniu\, które zatytułowaliśmy „Zrównoważona transformacja energetyczna Przykładowa”. Przygotowane przez nas działanie dotyka takich zagadnień jak: \n\n\n\n\nzielona transformacja energetyczna jako klucz do jakości życia w mieście;\n\n\n\ndokumentacja konieczna dla realizacji transformacji energetycznej;\n\n\n\nzwiększenie efektywności energetycznej budynków publicznych;\n\n\n\nedukacja i świadomość społeczna w zakresie oszczędności energii;\n\n\n\nprogramy grantowe na rzecz poprawy efektywności energetycznej budynków niepublicznych.\n\n\n\n\nDziałanie zostanie wpisane w kontekst całego projektu „Bezpieczne\, zdrowe i czyste Przykładowo” pokazując wewnętrzną komplementarność działań\, zastosowanie polityk horyzontalnych\, kwestie formalne (budżetowanie\, wskaźniki). Na końcu przewidujemy sesję pytań\, dla tych\, którzy będą chcieli pogłębić prezentowana tematykę lub dopytać o szczegóły tak przygotowanego projektu. \n\n\n\nWięcej: https://wsparciemiast.pl/webinar-15-10-ot5-jak-dobrze-wpisac-dzialania-w-logike-projektu/
URL:https://wsparciemiast.pl/wydarzenie/webinar-ot-5-efektywnosc-energetyczna-i-energia-odnawialna-praktycznie-jak-dobrze-wpisac-dzialania-w-logike-projektu/
ATTACH;FMTTYPE=image/png:https://wsparciemiast.pl/wp-content/uploads/2024/02/CH_www_1185x1185_OT_5.png
END:VEVENT
BEGIN:VEVENT
DTSTART;TZID=Europe/Warsaw:20241018T110000
DTEND;TZID=Europe/Warsaw:20241018T130000
DTSTAMP:20260422T064350
CREATED:20240926T054924Z
LAST-MODIFIED:20241028T083648Z
UID:8201-1729249200-1729256400@wsparciemiast.pl
SUMMARY:Forum Rozwoju Lokalnego: Jak sprostać wyzwaniom związanym ze zmianą klimatu – doświadczenia miast szwajcarskich
DESCRIPTION:Zapraszamy do udziału w Forum Rozwoju Lokalnego\, pierwszym organizowanym w ramach Polsko-Szwajcarskiego Programu Rozwoju Miast. Seminarium poświęcone jest tematyce adaptacji miast do zmian klimatu w doświadczeniach miast szwajcarskich i polskich. \n\n\n\nZaprezentujemy doświadczenia szwajcarskich miast w zakresie zrównoważonego rozwoju\, wdrażania ekonomicznie wydajnych i ekologicznych rozwiązań w adaptacji do zmian klimatu oraz polskie przykłady działań wspierających odporność miast. \n\n\n\nDo udziału w seminarium zapraszamy przedstawicieli miast biorących udział w Polsko-Szwajcarskim Programie Rozwoju Miast oraz inne zainteresowane podmioty. \n\n\n\nWięcej: https://wsparciemiast.pl/frl-18-10-jak-sprostac-wyzwaniom-zwiazanym-ze-zmiana-klimatu/
URL:https://wsparciemiast.pl/wydarzenie/forum-rozwoju-lokalnego-jak-sprostac-wyzwaniom-zwiazanym-ze-zmiana-klimatu-doswiadczenia-miast-szwajcarskich/
ATTACH;FMTTYPE=image/png:https://wsparciemiast.pl/wp-content/uploads/2024/09/logo-FRL.png
END:VEVENT
BEGIN:VEVENT
DTSTART;TZID=Europe/Warsaw:20241022T100000
DTEND;TZID=Europe/Warsaw:20241022T120000
DTSTAMP:20260422T064351
CREATED:20241014T110917Z
LAST-MODIFIED:20241028T083653Z
UID:8329-1729591200-1729598400@wsparciemiast.pl
SUMMARY:Webinar: Wypełnianie formularza wniosku o dofinansowanie
DESCRIPTION:Webinar z wypełniania formularza wniosku o dofinansowanie w Polsko-Szwajcarskim Programie Rozwoju Miast \n\n\n\n\njak prawidłowo wypełnić formularz wniosku w Polsko-Szwajcarskim Programie Rozwoju Miast?\n\n\n\nna co zwrócić szczególną uwagę?\n\n\n\njak sprawnie poruszać się po formularzu?\n\n\n\nod czego zacząć wypełnianie\, a co wypełni się samo?\n\n\n\n\nJeżeli chcesz poznać odpowiedzi na powyższe oraz inne pytania – zapraszamy wspólnie z Ministerstwem Funduszy i Polityki Regionalnej\, operatorem Polsko-Szwajcarskiego Programu Rozwoju Miast na jeden z szkolenie poświęcone praktycznym aspektom wypełniania formularza wniosku o dofinansowanie w PS PRM. \n\n\n\nWięcej: https://wsparciemiast.pl/webinar-22-10-webinar-z-wypelniania-wniosku/
URL:https://wsparciemiast.pl/wydarzenie/webinar-22-10-wypelnianie-formularza-wniosku-o-dofinansowanie/
ATTACH;FMTTYPE=image/png:https://wsparciemiast.pl/wp-content/uploads/2024/02/CH_www_1185x1185_wymogi-formalne.png
END:VEVENT
BEGIN:VEVENT
DTSTART;TZID=Europe/Warsaw:20241023T130000
DTEND;TZID=Europe/Warsaw:20241023T150000
DTSTAMP:20260422T064351
CREATED:20240223T074734Z
LAST-MODIFIED:20241028T083658Z
UID:3944-1729688400-1729695600@wsparciemiast.pl
SUMMARY:Webinar: Wymogi formalne _05
DESCRIPTION:Pomoc publiczna – pytania i odpowiedzi \n\n\n\n\nTest pomocy publicznej: wyjaśnienie krok po kroku\, jak przeprowadzić test pomocy publicznej. Omówienie poszczególnych etapów testu\, w tym analizy wpływu pomocy na konkurencję i handel wewnątrz Unii Europejskiej. \n\n\n\nKomentarze i rozwinięcie odpowiedzi na pytania pojawiające się w Centrum Konsultacyjnym. \n\n\n\n\nZachęcamy do przesłania pytań z zakresu pomocy publicznej przed rozpoczęciem webinaru w ramach pola „dodatkowe pytania” zawartego w formularzu zgłoszeniowym. \n\n\n\nProwadzenie: Kamil Krymski \n\n\n\nWięcej: https://wsparciemiast.pl/webinar-23-10-pomoc-publiczna-pytania-i-odpowiedzi/
URL:https://wsparciemiast.pl/wydarzenie/webinar-wymogi-formalne-3/
ATTACH;FMTTYPE=image/png:https://wsparciemiast.pl/wp-content/uploads/2024/02/CH_www_1185x1185_wymogi-formalne.png
END:VEVENT
END:VCALENDAR