BEGIN:VCALENDAR
VERSION:2.0
PRODID:-//Centrum Konsultacyjne Polsko-Szwajcarskiego Programu Rozwoju Miast - ECPv6.15.20//NONSGML v1.0//EN
CALSCALE:GREGORIAN
METHOD:PUBLISH
X-ORIGINAL-URL:https://wsparciemiast.pl
X-WR-CALDESC:Wydarzenia dla Centrum Konsultacyjne Polsko-Szwajcarskiego Programu Rozwoju Miast
REFRESH-INTERVAL;VALUE=DURATION:PT1H
X-Robots-Tag:noindex
X-PUBLISHED-TTL:PT1H
BEGIN:VTIMEZONE
TZID:Europe/Warsaw
BEGIN:DAYLIGHT
TZOFFSETFROM:+0100
TZOFFSETTO:+0200
TZNAME:CEST
DTSTART:20230326T010000
END:DAYLIGHT
BEGIN:STANDARD
TZOFFSETFROM:+0200
TZOFFSETTO:+0100
TZNAME:CET
DTSTART:20231029T010000
END:STANDARD
BEGIN:DAYLIGHT
TZOFFSETFROM:+0100
TZOFFSETTO:+0200
TZNAME:CEST
DTSTART:20240331T010000
END:DAYLIGHT
BEGIN:STANDARD
TZOFFSETFROM:+0200
TZOFFSETTO:+0100
TZNAME:CET
DTSTART:20241027T010000
END:STANDARD
BEGIN:DAYLIGHT
TZOFFSETFROM:+0100
TZOFFSETTO:+0200
TZNAME:CEST
DTSTART:20250330T010000
END:DAYLIGHT
BEGIN:STANDARD
TZOFFSETFROM:+0200
TZOFFSETTO:+0100
TZNAME:CET
DTSTART:20251026T010000
END:STANDARD
END:VTIMEZONE
BEGIN:VEVENT
DTSTART;TZID=Europe/Warsaw:20240709T100000
DTEND;TZID=Europe/Warsaw:20240709T120000
DTSTAMP:20260422T114313
CREATED:20240618T071345Z
LAST-MODIFIED:20240704T084546Z
UID:6055-1720519200-1720526400@wsparciemiast.pl
SUMMARY:Webinar: Wymogi formalne
DESCRIPTION:Celem webinaru Podmioty uprawnione do ponoszenia wydatków kwalifikowanych jest przedstawienie praktycznych aspektów dotyczących podmiotów uprawnionych do ponoszenia wydatków kwalifikowanych w projekcie. \n\n\n\nProwadzący zaprezentują: \n\n\n\n\ntypy podmiotów uprawnionych do ponoszenia wydatków kwalifikowanych\,\n\n\n\npodstawy prawne regulujące ich relacje z miastem\,\n\n\n\nsposoby realizacji działań przez różne podmioty uprawnione do ponoszenia wydatków kwalifikowanych działań w projekcie.\n\n\n\n\nWebinar zakończy sesja pytań i odpowiedzi\, dając uczestnikom możliwość dyskusji i zadawania pogłębionych pytań dotyczących poruszanych zagadnień. \n\n\n\nProwadzenie: Joanna Ćwiklińska-Ziomek\, Barbara Łączna\, Igor Gontarz\, Łukasz Strutyński \n\n\n\nWięcej: https://wsparciemiast.pl/webinar-09-07-podmioty-uprawnione-do-ponoszenia-wydatkow/ \n\n\nAby wypełnić ten formularz\, włącz obsługę JavaScript w przeglądarce.Aby wypełnić ten formularz\, włącz obsługę JavaScript w przeglądarce.Dane kontaktowe *PierwszyOstatniAdres e-mail *Proszę o podanie adresu e-mail oraz numeru telefonu\, pod którymi będzie można najszybciej potwierdzić Pani/Pana rejestrację.\n \nNa podany adres po przesłaniu formularza otrzymają Państwo potwierdzenie rejestracji. \nW przypadku nie otrzymania wiadomości prosimy o ponowne wypełnienie formularza oraz  sprawdzenie poprawności wpisanego adresu email.  Numer telefonu *Nazwa miasta lub Instytucji *Proszę wpisać tylko samą nazwę miasta (bez dodatkowych zapisów typu Miasto xxx\, Gmina miejska xxxx\, itp.) Typ reprezentowanej instytucji *Jednostka samorządu terytorialnegoInna jednostka administracjiOrganizacja pozarządowaFirma prywatnaInstytucja edukacyjnaMediaInny podmiotDodatkowe pytaniaJeśli ma Pani/Pan pytania dotyczące omawianego obszaru to prosimy o wskazanie ich poniżej\, pozwoli nam to jeszcze lepiej przygotować się do spotkania.KLAUZULA INFORMACYJNA o przetwarzaniu danych osobowych w ramach projektu *Zapoznałam/em się z informacją o przetwarzaniu moich danych osobowych.Link do pełnej treści: \nKLAUZULA INFORMACYJNAZgoda na utrwalenie i publikację wizerunku *TakWyrażam zgodę na utrwalenie i publikację wizerunku na stronach internetowych i w mediach społecznościowych Administratora oraz podmiotów\, którym powierzono do przetwarzania moje dane osobowe. *Ewentualne uwagi i oczekiwaniaZapisz się
URL:https://wsparciemiast.pl/wydarzenie/webinar-09-07-wymogi-formalne/
ATTACH;FMTTYPE=image/png:https://wsparciemiast.pl/wp-content/uploads/2024/02/CH_www_1185x1185_wymogi-formalne.png
END:VEVENT
BEGIN:VEVENT
DTSTART;TZID=Europe/Warsaw:20240709T100000
DTEND;TZID=Europe/Warsaw:20240709T120000
DTSTAMP:20260422T114313
CREATED:20240626T084253Z
LAST-MODIFIED:20240812T084541Z
UID:6153-1720519200-1720526400@wsparciemiast.pl
SUMMARY:Webinar: Wspieranie zarządzania migracją i promowanie działań integracyjnych OT_3_2
DESCRIPTION:Migracja – wyzwania dla miast średnich – część I \n\n\n\nMigracja jest nowym i ważnym tematem. Każde środowisko lokalne musi zauważyć jego istnienie\, reagować i proponować optymalne rozwiązania. Migranci są wśród Nas. Gość Inność. \n\n\n\n\nMigranci a uchodźcy i ich prawa\, uwarunkowania środowiska lokalnego\, realia miast średnich\n\n\n\nInteresariusze działań związanych z migracją\, dialog\, partycypacja\n\n\n\nMigracja w dokumentach strategicznych miast\n\n\n\nCele działań związanych z zarządzaniem migracją\n\n\n\nZałożenia dla planowanych działań w ramach OT3.\n\n\n\n\nProwadzenie: Karolina Kogucik\, Krzysztof Markiel\, Krzysztof Początek \n\n\n\nWięcej: https://wsparciemiast.pl/webinar-09-07-migracja-wyzwania-dla-miast/
URL:https://wsparciemiast.pl/wydarzenie/webinar-wspieranie-zarzadzania-migracja-i-promowanie-dzialan-integracyjnych-ot_3_2/
ATTACH;FMTTYPE=image/png:https://wsparciemiast.pl/wp-content/uploads/2024/02/CH_www_1185x1185_OT_3.png
END:VEVENT
BEGIN:VEVENT
DTSTART;TZID=Europe/Warsaw:20240711T100000
DTEND;TZID=Europe/Warsaw:20240711T120000
DTSTAMP:20260422T114313
CREATED:20240223T075205Z
LAST-MODIFIED:20240704T063746Z
UID:3948-1720692000-1720699200@wsparciemiast.pl
SUMMARY:Webinar: Dane i badania _03
DESCRIPTION:Raporty: rynek pracy i szkolnictwo zawodowe\, demografia i finanse – omówienie \n\n\n\nPrezentacja poszczególnych raportów:  \n\n\n\n\nfinansowego\,  \n\n\n\ndemograficznego\,  \n\n\n\ndotyczącego rynku pracy i szkolnictwa zawodowego.  \n\n\n\nZakres raportów\, główne założenia.  \n\n\n\nPrzykładowa analiza danych z wykorzystaniem informacji zawartych w raportach. \n\n\n\n\nProwadzenie: Janusz Szewczuk\, Andrzej Sobczyk\, Daniel Budzeń \n\n\n\nWięcej: https://wsparciemiast.pl/webinar-11-07-dane-i-badania/ \n\n\nAby wypełnić ten formularz\, włącz obsługę JavaScript w przeglądarce.Aby wypełnić ten formularz\, włącz obsługę JavaScript w przeglądarce.Dane kontaktowe *PierwszyOstatniAdres e-mail *Proszę o podanie adresu e-mail oraz numeru telefonu\, pod którymi będzie można najszybciej potwierdzić Pani/Pana rejestrację.Numer telefonu *Nazwa miasta *Typ reprezentowanej instytucji *Jednostka samorządu terytorialnegoInna jednostka administracjiOrganizacja pozarządowaFirma prywatnaInstytucja edukacyjnaMediaInny podmiotDodatkowe pytaniaJeśli ma Pani/Pan pytania dotyczące omawianego obszaru to prosimy o wskazanie ich poniżej\, pozwoli nam to jeszcze lepiej przygotować się do spotkania.KLAUZULA INFORMACYJNA o przetwarzaniu danych osobowych w ramach projektu *Zapoznałam/em się z informacją o przetwarzaniu moich danych osobowych.Link do pełnej treści: \nKLAUZULA INFORMACYJNAZgoda na utrwalenie i publikację wizerunku *TakWyrażam zgodę na utrwalenie i publikację wizerunku na stronach internetowych i w mediach społecznościowych Administratora oraz podmiotów\, którym powierzono do przetwarzania moje dane osobowe. *Ewentualne uwagi i oczekiwaniaZapisz się
URL:https://wsparciemiast.pl/wydarzenie/webinar-dane-i-badania-3/
ATTACH;FMTTYPE=image/png:https://wsparciemiast.pl/wp-content/uploads/2024/02/CH_www_1185x1185_dane-i-badania.png
END:VEVENT
BEGIN:VEVENT
DTSTART;TZID=Europe/Warsaw:20240716T100000
DTEND;TZID=Europe/Warsaw:20240716T120000
DTSTAMP:20260422T114313
CREATED:20240701T072650Z
LAST-MODIFIED:20240822T192838Z
UID:6218-1721124000-1721131200@wsparciemiast.pl
SUMMARY:Webinar: Zaangażowanie obywatelskie i przejrzystość
DESCRIPTION:Webinar: Analiza działań pod kątem partycypacji i włączenia społecznego \n\n\n\n\nSchematy zaproszenia obywateli: Tworzenie graficznych schematów procesu zaproszenia interesariuszy do współdecydowania\n\n\n\nNarzędzia partycypacji: Poznanie i stosowanie narzędzi partycypacji społecznej\n\n\n\nIdentyfikacja interesariuszy: Metody identyfikacji kluczowych interesariuszy i ostatecznych odbiorców wsparcia\n\n\n\nWłączenie społeczne: Wdrożenie i planowanie procesu włączenia społecznego grup znajdujących się w niekorzystnej sytuacji\n\n\n\nWarsztatowa praca w grupach: Opracowanie praktycznych rozwiązań na rzeczywistych przykładach działań miejskich\n\n\n\nZwiększenie efektywności działań miejskich: Poprzez zaangażowanie społeczności lokalnych\n\n\n\nPraktyczne umiejętności: Przydatne w planowaniu i realizacji działań finansowanych ze środków publicznych\n\n\n\nPrzygotowanie do naboru: Lepsze przygotowanie do startowania w Polsko-Szwajcarskim Programie Rozwoju Miast\n\n\n\n\nProwadzący: Lucyna Maury \n\n\n\nWięcej: https://wsparciemiast.pl/webinar-16-07-analiza-pod-katem-partycypacji/
URL:https://wsparciemiast.pl/wydarzenie/webinar-zaangazowanie-obywatelskie-i-przejrzystosc-4/
ATTACH;FMTTYPE=image/png:https://wsparciemiast.pl/wp-content/uploads/2024/02/CH_www_1185x1185_OT_12.png
END:VEVENT
BEGIN:VEVENT
DTSTART;TZID=Europe/Warsaw:20240723T100000
DTEND;TZID=Europe/Warsaw:20240723T113000
DTSTAMP:20260422T114313
CREATED:20240703T074503Z
LAST-MODIFIED:20240711T061317Z
UID:6266-1721728800-1721734200@wsparciemiast.pl
SUMMARY:Webinar: OM Wymogi formalne 7
DESCRIPTION:Zapraszamy na webinar zatytułowany Poznaj bliżej Polsko-Szwajcarski Program Rozwoju Miast – sesja pytań i odpowiedzi\, który w całości poświecimy odpowiedziom na zadawane przez Państwa na żywo pytania i wątpliwości dotyczące Polsko-Szwajcarskiego Programu Rozwoju Miast. \n\n\n\nW trakcie webinaru: \n\n\n\n\nOdpowiemy na Wasze pytania dotyczące regulaminu i dokumentacji naborowej\n\n\n\nPostaramy się rozwiać Wasze wątpliwości\n\n\n\nWspólnie zastanowimy się jak lepiej przygotować projekty w naborze.\n\n\n\n\nProponowana sesja pytań i odpowiedzi będzie miała miejsce w formule on-line na platformie zoom. \n\n\n\nProwadzący: Basia Łączna\, Joanna Cwiklińska-Ziomek\, Grzegorz Godziek \n\n\n\nWięcej: https://wsparciemiast.pl/webinar-23-07-poznaj-blizej-program-rozwoju-miast/ \n\n\nAby wypełnić ten formularz\, włącz obsługę JavaScript w przeglądarce.Aby wypełnić ten formularz\, włącz obsługę JavaScript w przeglądarce.Dane kontaktowe *PierwszyOstatniAdres e-mail *Proszę o podanie adresu e-mail oraz numeru telefonu\, pod którymi będzie można najszybciej potwierdzić Pani/Pana rejestrację.\n \nNa podany adres po przesłaniu formularza otrzymają Państwo potwierdzenie rejestracji. \nW przypadku nie otrzymania wiadomości prosimy o ponowne wypełnienie formularza oraz  sprawdzenie poprawności wpisanego adresu email.  Numer telefonu *Nazwa miasta lub Instytucji *Proszę wpisać tylko samą nazwę miasta (bez dodatkowych zapisów typu Miasto xxx\, Gmina miejska xxxx\, itp.) Typ reprezentowanej instytucji *Jednostka samorządu terytorialnegoInna jednostka administracjiOrganizacja pozarządowaFirma prywatnaInstytucja edukacyjnaMediaInny podmiotDodatkowe pytaniaJeśli ma Pani/Pan pytania dotyczące omawianego obszaru to prosimy o wskazanie ich poniżej\, pozwoli nam to jeszcze lepiej przygotować się do spotkania.KLAUZULA INFORMACYJNA o przetwarzaniu danych osobowych w ramach projektu *Zapoznałam/em się z informacją o przetwarzaniu moich danych osobowych.Link do pełnej treści: \nKLAUZULA INFORMACYJNAZgoda na utrwalenie i publikację wizerunku *TakWyrażam zgodę na utrwalenie i publikację wizerunku na stronach internetowych i w mediach społecznościowych Administratora oraz podmiotów\, którym powierzono do przetwarzania moje dane osobowe. *Ewentualne uwagi i oczekiwaniaZapisz się
URL:https://wsparciemiast.pl/wydarzenie/webinar-wymogi-formalne-2/
ATTACH;FMTTYPE=image/png:https://wsparciemiast.pl/wp-content/uploads/2024/02/CH_www_1185x1185_wymogi-formalne.png
END:VEVENT
END:VCALENDAR