BEGIN:VCALENDAR
VERSION:2.0
PRODID:-//Centrum Konsultacyjne Polsko-Szwajcarskiego Programu Rozwoju Miast - ECPv6.15.20//NONSGML v1.0//EN
CALSCALE:GREGORIAN
METHOD:PUBLISH
X-WR-CALNAME:Centrum Konsultacyjne Polsko-Szwajcarskiego Programu Rozwoju Miast
X-ORIGINAL-URL:https://wsparciemiast.pl
X-WR-CALDESC:Wydarzenia dla Centrum Konsultacyjne Polsko-Szwajcarskiego Programu Rozwoju Miast
REFRESH-INTERVAL;VALUE=DURATION:PT1H
X-Robots-Tag:noindex
X-PUBLISHED-TTL:PT1H
BEGIN:VTIMEZONE
TZID:Europe/Warsaw
BEGIN:DAYLIGHT
TZOFFSETFROM:+0100
TZOFFSETTO:+0200
TZNAME:CEST
DTSTART:20230326T010000
END:DAYLIGHT
BEGIN:STANDARD
TZOFFSETFROM:+0200
TZOFFSETTO:+0100
TZNAME:CET
DTSTART:20231029T010000
END:STANDARD
BEGIN:DAYLIGHT
TZOFFSETFROM:+0100
TZOFFSETTO:+0200
TZNAME:CEST
DTSTART:20240331T010000
END:DAYLIGHT
BEGIN:STANDARD
TZOFFSETFROM:+0200
TZOFFSETTO:+0100
TZNAME:CET
DTSTART:20241027T010000
END:STANDARD
BEGIN:DAYLIGHT
TZOFFSETFROM:+0100
TZOFFSETTO:+0200
TZNAME:CEST
DTSTART:20250330T010000
END:DAYLIGHT
BEGIN:STANDARD
TZOFFSETFROM:+0200
TZOFFSETTO:+0100
TZNAME:CET
DTSTART:20251026T010000
END:STANDARD
END:VTIMEZONE
BEGIN:VEVENT
DTSTART;TZID=Europe/Warsaw:20240319T093000
DTEND;TZID=Europe/Warsaw:20240319T160000
DTSTAMP:20260422T175006
CREATED:20240223T113924Z
LAST-MODIFIED:20240628T095807Z
UID:4003-1710840600-1710864000@wsparciemiast.pl
SUMMARY:Spotkanie informacyjne: Warszawa
DESCRIPTION:Zagadnienia: \n\n\n\n\nZałożenia Polsko-Szwajcarskiego Programu Rozwoju Miast\n\n\n\nWymogi konkursowe i zasady aplikowania\n\n\n\nWniosek o dofinansowanie – zasady przygotowania\n\n\n\nKryteria i zasady oceny\n\n\n\nWdrażanie projektu\n\n\n\nInformacja i promocja\n\n\n\nWsparcie ZMP – działania informacyjne\, edukacyjne i doradcze dla miast\n\n\n\n\nLokalizacja: Warszawa\, plac Zamkowy 6\, Pałac Ślubów\, sala na parterze \n\n\n\nAgenda_szkolenia_regulaminowe_Warszawa-2Pobierz
URL:https://wsparciemiast.pl/wydarzenie/spotkanie-informacyjne-warszawa/
ATTACH;FMTTYPE=image/png:https://wsparciemiast.pl/wp-content/uploads/2024/02/CH_www_1185x1185_wymogi-formalne.png
END:VEVENT
BEGIN:VEVENT
DTSTART;TZID=Europe/Warsaw:20240320T093000
DTEND;TZID=Europe/Warsaw:20240320T160000
DTSTAMP:20260422T175006
CREATED:20240223T114216Z
LAST-MODIFIED:20240628T100019Z
UID:4005-1710927000-1710950400@wsparciemiast.pl
SUMMARY:Spotkanie informacyjne: Olsztyn
DESCRIPTION:Zagadnienia: \n\n\n\n\nZałożenia Polsko-Szwajcarskiego Programu Rozwoju Miast\n\n\n\nWymogi konkursowe i zasady aplikowania\n\n\n\nWniosek o dofinansowanie – zasady przygotowania\n\n\n\nKryteria i zasady oceny\n\n\n\nWdrażanie projektu\n\n\n\nInformacja i promocja\n\n\n\nWsparcie ZMP – działania informacyjne\, edukacyjne i doradcze dla miast\n\n\n\n\nLokalizacja: Olsztyn\, ul. Jagiellońska 91a\, Urząd Marszałkowski\, sala konferencyjno-szkoleniowa \n\n\n\nAgenda_szkolenia_regulaminowe_Olsztyn-1Pobierz
URL:https://wsparciemiast.pl/wydarzenie/spotkanie-informacyjne-olsztyn/
ATTACH;FMTTYPE=image/png:https://wsparciemiast.pl/wp-content/uploads/2024/02/CH_www_1185x1185_wymogi-formalne.png
END:VEVENT
BEGIN:VEVENT
DTSTART;TZID=Europe/Warsaw:20240321T093000
DTEND;TZID=Europe/Warsaw:20240321T160000
DTSTAMP:20260422T175006
CREATED:20240223T114337Z
LAST-MODIFIED:20240628T080138Z
UID:4008-1711013400-1711036800@wsparciemiast.pl
SUMMARY:Spotkanie informacyjne: Poznań
DESCRIPTION:Zagadnienia: \n\n\n\n\nZałożenia Polsko-Szwajcarskiego Programu Rozwoju Miast\n\n\n\nWymogi konkursowe i zasady aplikowania\n\n\n\nWniosek o dofinansowanie – zasady przygotowania\n\n\n\nKryteria i zasady oceny\n\n\n\nWdrażanie projektu\n\n\n\nInformacja i promocja\n\n\n\nWsparcie ZMP – działania informacyjne\, edukacyjne i doradcze dla miast\n\n\n\n\nLokalizacja: Poznań\, Al. Niepodległości 34\, Urząd Marszałkowski\, sala posiedzeń II (parter) \n\n\n\nAgenda_szkolenia_regulaminowe_Poznan-2Pobierz
URL:https://wsparciemiast.pl/wydarzenie/spotkanie-informacyjne-poznan/
ATTACH;FMTTYPE=image/png:https://wsparciemiast.pl/wp-content/uploads/2024/02/CH_www_1185x1185_wymogi-formalne.png
END:VEVENT
BEGIN:VEVENT
DTSTART;TZID=Europe/Warsaw:20240321T093000
DTEND;TZID=Europe/Warsaw:20240321T160000
DTSTAMP:20260422T175006
CREATED:20240223T114829Z
LAST-MODIFIED:20240628T095655Z
UID:4012-1711013400-1711036800@wsparciemiast.pl
SUMMARY:Spotkanie informacyjne: Kielce
DESCRIPTION:Zagadnienia: \n\n\n\n\nZałożenia Polsko-Szwajcarskiego Programu Rozwoju Miast\n\n\n\nWymogi konkursowe i zasady aplikowania\n\n\n\nWniosek o dofinansowanie – zasady przygotowania\n\n\n\nKryteria i zasady oceny\n\n\n\nWdrażanie projektu\n\n\n\nInformacja i promocja\n\n\n\nWsparcie ZMP – działania informacyjne\, edukacyjne i doradcze dla miast\n\n\n\n\nLokalizacja: Kielce\, Aleja IX wieków Kielc 3\, Urząd Marszałkowski\, budynek C-2\, sala nr 102-I piętro \n\n\n\nAgenda_szkolenia_regulaminowe_Kielce-1Pobierz
URL:https://wsparciemiast.pl/wydarzenie/spotkanie-informacyjne-kielce/
ATTACH;FMTTYPE=image/png:https://wsparciemiast.pl/wp-content/uploads/2024/02/CH_www_1185x1185_wymogi-formalne.png
END:VEVENT
BEGIN:VEVENT
DTSTART;TZID=Europe/Warsaw:20240322T093000
DTEND;TZID=Europe/Warsaw:20240322T160000
DTSTAMP:20260422T175006
CREATED:20240223T114446Z
LAST-MODIFIED:20240628T080819Z
UID:4010-1711099800-1711123200@wsparciemiast.pl
SUMMARY:Spotkanie informacyjne: Szczecin
DESCRIPTION:Zagadnienia: \n\n\n\n\nZałożenia Polsko-Szwajcarskiego Programu Rozwoju Miast\n\n\n\nWymogi konkursowe i zasady aplikowania\n\n\n\nWniosek o dofinansowanie – zasady przygotowania\n\n\n\nKryteria i zasady oceny\n\n\n\nWdrażanie projektu\n\n\n\nInformacja i promocja\n\n\n\nWsparcie ZMP – działania informacyjne\, edukacyjne i doradcze dla miast\n\n\n\n\nLokalizacja: Szczecin\, Pl. Piłsudskiego 40\, Urząd Marszałkowski\, Sala konferencyjna DELFIN (wejście od ul. Piłsudskiego 40) \n\n\n\nAgenda_szkolenia_regulaminowe_Szczecin-1Pobierz
URL:https://wsparciemiast.pl/wydarzenie/spotkanie-informacyjne-szczecin/
ATTACH;FMTTYPE=image/png:https://wsparciemiast.pl/wp-content/uploads/2024/02/CH_www_1185x1185_wymogi-formalne.png
END:VEVENT
BEGIN:VEVENT
DTSTART;TZID=Europe/Warsaw:20240322T093000
DTEND;TZID=Europe/Warsaw:20240322T160000
DTSTAMP:20260422T175006
CREATED:20240223T114955Z
LAST-MODIFIED:20240628T080716Z
UID:4014-1711099800-1711123200@wsparciemiast.pl
SUMMARY:Spotkanie informacyjne: Lublin
DESCRIPTION:Zagadnienia: \n\n\n\n\nZałożenia Polsko-Szwajcarskiego Programu Rozwoju Miast\n\n\n\nWymogi konkursowe i zasady aplikowania\n\n\n\nWniosek o dofinansowanie – zasady przygotowania\n\n\n\nKryteria i zasady oceny\n\n\n\nWdrażanie projektu\n\n\n\nInformacja i promocja\n\n\n\nWsparcie ZMP – działania informacyjne\, edukacyjne i doradcze dla miast\n\n\n\n\nLokalizacja: Lublin\, ul. Spokojna 2\, Urząd Miasta\, Sala konferencyjna nr 252 \n\n\n\nAgenda_szkolenia_regulaminowe_Lublin-1Pobierz
URL:https://wsparciemiast.pl/wydarzenie/spotkanie-informacyjne-lublin/
ATTACH;FMTTYPE=image/png:https://wsparciemiast.pl/wp-content/uploads/2024/02/CH_www_1185x1185_wymogi-formalne.png
END:VEVENT
BEGIN:VEVENT
DTSTART;TZID=Europe/Warsaw:20240325T093000
DTEND;TZID=Europe/Warsaw:20240325T160000
DTSTAMP:20260422T175006
CREATED:20240223T115342Z
LAST-MODIFIED:20240628T095537Z
UID:4016-1711359000-1711382400@wsparciemiast.pl
SUMMARY:Spotkanie informacyjne: Częstochowa
DESCRIPTION:Zagadnienia: \n\n\n\n\nZałożenia Polsko-Szwajcarskiego Programu Rozwoju Miast\n\n\n\nWymogi konkursowe i zasady aplikowania\n\n\n\nWniosek o dofinansowanie – zasady przygotowania\n\n\n\nKryteria i zasady oceny\n\n\n\nWdrażanie projektu\n\n\n\nInformacja i promocja\n\n\n\nWsparcie ZMP – działania informacyjne\, edukacyjne i doradcze dla miast\n\n\n\n\nLokalizacja: Częstochowa\, ul. Śląska 11/13\, Urząd Miasta\, Sala sesyjna \n\n\n\nAgenda_szkolenia_regulaminowe_Czestochowa-1Pobierz
URL:https://wsparciemiast.pl/wydarzenie/spotkanie-informacyjne-czestochowa/
ATTACH;FMTTYPE=image/png:https://wsparciemiast.pl/wp-content/uploads/2024/02/CH_www_1185x1185_wymogi-formalne.png
END:VEVENT
BEGIN:VEVENT
DTSTART;TZID=Europe/Warsaw:20240326T093000
DTEND;TZID=Europe/Warsaw:20240326T160000
DTSTAMP:20260422T175006
CREATED:20240223T115504Z
LAST-MODIFIED:20240628T080011Z
UID:4018-1711445400-1711468800@wsparciemiast.pl
SUMMARY:Spotkanie informacyjne: Wrocław
DESCRIPTION:Zagadnienia: \n\n\n\n\nZałożenia Polsko-Szwajcarskiego Programu Rozwoju Miast\n\n\n\nWymogi konkursowe i zasady aplikowania\n\n\n\nWniosek o dofinansowanie – zasady przygotowania\n\n\n\nKryteria i zasady oceny\n\n\n\nWdrażanie projektu\n\n\n\nInformacja i promocja\n\n\n\nWsparcie ZMP – działania informacyjne\, edukacyjne i doradcze dla miast\n\n\n\n\nLokalizacja: Wrocław\, Plac Powstańców Warszawy 1\, Urząd Wojewódzki\, sala 1221 \n\n\n\nAgenda_szkolenia_regulaminowe_Wroclaw-1Pobierz
URL:https://wsparciemiast.pl/wydarzenie/spotkanie-informacyjne-wroclaw/
ATTACH;FMTTYPE=image/png:https://wsparciemiast.pl/wp-content/uploads/2024/02/CH_www_1185x1185_wymogi-formalne.png
END:VEVENT
END:VCALENDAR